BEGIN:VCALENDAR
VERSION:2.0
PRODID:-//The Princess Royal Trust for Carers in Hampshire - ECPv6.15.14//NONSGML v1.0//EN
CALSCALE:GREGORIAN
METHOD:PUBLISH
X-ORIGINAL-URL:https://carercentre.com
X-WR-CALDESC:Events for The Princess Royal Trust for Carers in Hampshire
REFRESH-INTERVAL;VALUE=DURATION:PT1H
X-Robots-Tag:noindex
X-PUBLISHED-TTL:PT1H
BEGIN:VTIMEZONE
TZID:Europe/London
BEGIN:DAYLIGHT
TZOFFSETFROM:+0000
TZOFFSETTO:+0100
TZNAME:BST
DTSTART:20250330T010000
END:DAYLIGHT
BEGIN:STANDARD
TZOFFSETFROM:+0100
TZOFFSETTO:+0000
TZNAME:GMT
DTSTART:20251026T010000
END:STANDARD
BEGIN:DAYLIGHT
TZOFFSETFROM:+0000
TZOFFSETTO:+0100
TZNAME:BST
DTSTART:20260329T010000
END:DAYLIGHT
BEGIN:STANDARD
TZOFFSETFROM:+0100
TZOFFSETTO:+0000
TZNAME:GMT
DTSTART:20261025T010000
END:STANDARD
BEGIN:DAYLIGHT
TZOFFSETFROM:+0000
TZOFFSETTO:+0100
TZNAME:BST
DTSTART:20270328T010000
END:DAYLIGHT
BEGIN:STANDARD
TZOFFSETFROM:+0100
TZOFFSETTO:+0000
TZNAME:GMT
DTSTART:20271031T010000
END:STANDARD
END:VTIMEZONE
BEGIN:VEVENT
DTSTART;TZID=Europe/London:20260608T100000
DTEND;TZID=Europe/London:20260608T120000
DTSTAMP:20260425T201514
CREATED:20260415T130051Z
LAST-MODIFIED:20260415T130612Z
UID:10000703-1780912800-1780920000@carercentre.com
SUMMARY:Carers Week 2026 - Canal Boat Trip & Lunch
DESCRIPTION:To Celebrate National Carers Week 2026\nWe would like to invite Hampshire Carers to enjoy a Canal Boat trip on the John Pinkerton along Basingstoke Canal. \nBooking essential so\, please call to secure your space and advise us of any dietary requirements. \nCall 01264 311680 or e-mail: info@carercentre.com
URL:https://carercentre.com/event/carers-week-2026-canal-boat-trip-lunch/
LOCATION:Colt Hill Wharf\, London Road\, Odiham\, Hampshire\, RG29 1AL\, United Kingdom
ATTACH;FMTTYPE=image/png:https://carercentre.com/wp-content/uploads/2026/04/CANAL-BOAT-TRIP.png
GEO:51.2603025;-0.9303279
X-APPLE-STRUCTURED-LOCATION;VALUE=URI;X-ADDRESS=Colt Hill Wharf London Road Odiham Hampshire RG29 1AL United Kingdom;X-APPLE-RADIUS=500;X-TITLE=London Road:geo:-0.9303279,51.2603025
END:VEVENT
END:VCALENDAR