BEGIN:VCALENDAR
VERSION:2.0
PRODID:-//The Princess Royal Trust for Carers in Hampshire - ECPv6.15.14//NONSGML v1.0//EN
CALSCALE:GREGORIAN
METHOD:PUBLISH
X-WR-CALNAME:The Princess Royal Trust for Carers in Hampshire
X-ORIGINAL-URL:https://carercentre.com
X-WR-CALDESC:Events for The Princess Royal Trust for Carers in Hampshire
REFRESH-INTERVAL;VALUE=DURATION:PT1H
X-Robots-Tag:noindex
X-PUBLISHED-TTL:PT1H
BEGIN:VTIMEZONE
TZID:Europe/London
BEGIN:DAYLIGHT
TZOFFSETFROM:+0000
TZOFFSETTO:+0100
TZNAME:BST
DTSTART:20250330T010000
END:DAYLIGHT
BEGIN:STANDARD
TZOFFSETFROM:+0100
TZOFFSETTO:+0000
TZNAME:GMT
DTSTART:20251026T010000
END:STANDARD
BEGIN:DAYLIGHT
TZOFFSETFROM:+0000
TZOFFSETTO:+0100
TZNAME:BST
DTSTART:20260329T010000
END:DAYLIGHT
BEGIN:STANDARD
TZOFFSETFROM:+0100
TZOFFSETTO:+0000
TZNAME:GMT
DTSTART:20261025T010000
END:STANDARD
BEGIN:DAYLIGHT
TZOFFSETFROM:+0000
TZOFFSETTO:+0100
TZNAME:BST
DTSTART:20270328T010000
END:DAYLIGHT
BEGIN:STANDARD
TZOFFSETFROM:+0100
TZOFFSETTO:+0000
TZNAME:GMT
DTSTART:20271031T010000
END:STANDARD
END:VTIMEZONE
BEGIN:VEVENT
DTSTART;TZID=Europe/London:20260611T123000
DTEND;TZID=Europe/London:20260611T143000
DTSTAMP:20260425T184319
CREATED:20260415T130343Z
LAST-MODIFIED:20260415T130600Z
UID:10000704-1781181000-1781188200@carercentre.com
SUMMARY:Carers Week 2026 - Carers Lunch (Basingstoke)
DESCRIPTION:To Celebrate National Carers Week 2026\nWe would like to invite Hampshire Carers to come along to our Carers lunch. \nBooking essential so\, please call to secure your space and advise us of any dietary requirements. \nCall 01264 311680 or e-mail: info@carercentre.com
URL:https://carercentre.com/event/carers-week-2026-carers-lunch-basingstoke/
LOCATION:The Ridgeway Community Centre\, Blackdown Close\, Basingstoke\, Hampshire\, RG22 5BW\, United Kingdom
ATTACH;FMTTYPE=image/png:https://carercentre.com/wp-content/uploads/2026/04/CARERS-LUNCH-BASINGSTOKE.png
GEO:51.2559314;-1.1337231
X-APPLE-STRUCTURED-LOCATION;VALUE=URI;X-ADDRESS=The Ridgeway Community Centre Blackdown Close Basingstoke Hampshire RG22 5BW United Kingdom;X-APPLE-RADIUS=500;X-TITLE=Blackdown Close:geo:-1.1337231,51.2559314
END:VEVENT
END:VCALENDAR