BEGIN:VCALENDAR
VERSION:2.0
PRODID:-//The Princess Royal Trust for Carers in Hampshire - ECPv6.15.14//NONSGML v1.0//EN
CALSCALE:GREGORIAN
METHOD:PUBLISH
X-ORIGINAL-URL:https://carercentre.com
X-WR-CALDESC:Events for The Princess Royal Trust for Carers in Hampshire
REFRESH-INTERVAL;VALUE=DURATION:PT1H
X-Robots-Tag:noindex
X-PUBLISHED-TTL:PT1H
BEGIN:VTIMEZONE
TZID:Europe/London
BEGIN:DAYLIGHT
TZOFFSETFROM:+0000
TZOFFSETTO:+0100
TZNAME:BST
DTSTART:20250330T010000
END:DAYLIGHT
BEGIN:STANDARD
TZOFFSETFROM:+0100
TZOFFSETTO:+0000
TZNAME:GMT
DTSTART:20251026T010000
END:STANDARD
BEGIN:DAYLIGHT
TZOFFSETFROM:+0000
TZOFFSETTO:+0100
TZNAME:BST
DTSTART:20260329T010000
END:DAYLIGHT
BEGIN:STANDARD
TZOFFSETFROM:+0100
TZOFFSETTO:+0000
TZNAME:GMT
DTSTART:20261025T010000
END:STANDARD
BEGIN:DAYLIGHT
TZOFFSETFROM:+0000
TZOFFSETTO:+0100
TZNAME:BST
DTSTART:20270328T010000
END:DAYLIGHT
BEGIN:STANDARD
TZOFFSETFROM:+0100
TZOFFSETTO:+0000
TZNAME:GMT
DTSTART:20271031T010000
END:STANDARD
END:VTIMEZONE
BEGIN:VEVENT
DTSTART;TZID=Europe/London:20260612T130000
DTEND;TZID=Europe/London:20260612T150000
DTSTAMP:20260425T210836
CREATED:20260421T084336Z
LAST-MODIFIED:20260421T084745Z
UID:10000706-1781269200-1781276400@carercentre.com
SUMMARY:Carers Week 2026 - Afternoon Tea in Romsey
DESCRIPTION:We would like to invite Hampshire Carers to enjoy a delicious Afternoon Tea. \nBooking essential so\, please call to secure your space and advise us of any dietary requirements. \nCall 01264 311680 or e-mail: info@carercentre.com
URL:https://carercentre.com/event/carers-week-2026-afternoon-tea-in-romsey/
LOCATION:Wisdom House\, The Abbey\, Romsey\, Hampshire\, SO51 8EL\, United Kingdom
ATTACH;FMTTYPE=image/png:https://carercentre.com/wp-content/uploads/2026/04/Afternoon-Tea.png
GEO:50.9889331;-1.5012402
X-APPLE-STRUCTURED-LOCATION;VALUE=URI;X-ADDRESS=Wisdom House The Abbey Romsey Hampshire SO51 8EL United Kingdom;X-APPLE-RADIUS=500;X-TITLE=The Abbey:geo:-1.5012402,50.9889331
END:VEVENT
END:VCALENDAR